BEGIN:VCALENDAR
VERSION:2.0
PRODID:-//Ventura Townehouse - ECPv6.15.20//NONSGML v1.0//EN
CALSCALE:GREGORIAN
METHOD:PUBLISH
X-WR-CALNAME:Ventura Townehouse
X-ORIGINAL-URL:https://www.venturatownehouse.com
X-WR-CALDESC:Events for Ventura Townehouse
REFRESH-INTERVAL;VALUE=DURATION:PT1H
X-Robots-Tag:noindex
X-PUBLISHED-TTL:PT1H
BEGIN:VTIMEZONE
TZID:America/Los_Angeles
BEGIN:DAYLIGHT
TZOFFSETFROM:-0800
TZOFFSETTO:-0700
TZNAME:PDT
DTSTART:20240310T100000
END:DAYLIGHT
BEGIN:STANDARD
TZOFFSETFROM:-0700
TZOFFSETTO:-0800
TZNAME:PST
DTSTART:20241103T090000
END:STANDARD
BEGIN:DAYLIGHT
TZOFFSETFROM:-0800
TZOFFSETTO:-0700
TZNAME:PDT
DTSTART:20250309T100000
END:DAYLIGHT
BEGIN:STANDARD
TZOFFSETFROM:-0700
TZOFFSETTO:-0800
TZNAME:PST
DTSTART:20251102T090000
END:STANDARD
BEGIN:DAYLIGHT
TZOFFSETFROM:-0800
TZOFFSETTO:-0700
TZNAME:PDT
DTSTART:20260308T100000
END:DAYLIGHT
BEGIN:STANDARD
TZOFFSETFROM:-0700
TZOFFSETTO:-0800
TZNAME:PST
DTSTART:20261101T090000
END:STANDARD
END:VTIMEZONE
BEGIN:VEVENT
DTSTART;TZID=America/Los_Angeles:20250101T103000
DTEND;TZID=America/Los_Angeles:20250101T113000
DTSTAMP:20260421T023511
CREATED:20240618T044144Z
LAST-MODIFIED:20251102T175448Z
UID:10027212-1735727400-1735731000@www.venturatownehouse.com
SUMMARY:Piano with Barb
DESCRIPTION:
URL:https://www.venturatownehouse.com/event/piano-w-barb/2025-01-01/
LOCATION:Front Lobby
CATEGORIES:Entertainment
END:VEVENT
BEGIN:VEVENT
DTSTART;TZID=America/Los_Angeles:20250101T140000
DTEND;TZID=America/Los_Angeles:20250101T150000
DTSTAMP:20260421T023511
CREATED:20250101T175904Z
LAST-MODIFIED:20250101T175905Z
UID:10031139-1735740000-1735743600@www.venturatownehouse.com
SUMMARY:Concert with Renee
DESCRIPTION:If you are new to the Townehouse and you have not listened to Renee play the piano\, you are in for a treat. Renée performs piano concerts in the Vista Room on the first and third Wednesday of each month. Renee has performed worldwide as a soloist and collaborative pianist. For fifteen years she was Music Director and pianist for “Opera & Broadway Under the Stars” concerts at Arts & Letters Cafe in Santa Barbara and served as vocal faculty pianist for the Music Academy of the West’s 2013 MERIT program. In addition to her active piano collaborating schedule\, Renée teaches private piano students of all ages in her Santa Barbara studio.
URL:https://www.venturatownehouse.com/event/concert-with-renee-2/2025-01-01/
LOCATION:Vista Room – 7th Floor
CATEGORIES:Entertainment
END:VEVENT
END:VCALENDAR