BEGIN:VCALENDAR
VERSION:2.0
PRODID:-//Ventura Townehouse - ECPv6.15.20//NONSGML v1.0//EN
CALSCALE:GREGORIAN
METHOD:PUBLISH
X-ORIGINAL-URL:https://www.venturatownehouse.com
X-WR-CALDESC:Events for Ventura Townehouse
REFRESH-INTERVAL;VALUE=DURATION:PT1H
X-Robots-Tag:noindex
X-PUBLISHED-TTL:PT1H
BEGIN:VTIMEZONE
TZID:America/Los_Angeles
BEGIN:DAYLIGHT
TZOFFSETFROM:-0800
TZOFFSETTO:-0700
TZNAME:PDT
DTSTART:20240310T100000
END:DAYLIGHT
BEGIN:STANDARD
TZOFFSETFROM:-0700
TZOFFSETTO:-0800
TZNAME:PST
DTSTART:20241103T090000
END:STANDARD
BEGIN:DAYLIGHT
TZOFFSETFROM:-0800
TZOFFSETTO:-0700
TZNAME:PDT
DTSTART:20250309T100000
END:DAYLIGHT
BEGIN:STANDARD
TZOFFSETFROM:-0700
TZOFFSETTO:-0800
TZNAME:PST
DTSTART:20251102T090000
END:STANDARD
BEGIN:DAYLIGHT
TZOFFSETFROM:-0800
TZOFFSETTO:-0700
TZNAME:PDT
DTSTART:20260308T100000
END:DAYLIGHT
BEGIN:STANDARD
TZOFFSETFROM:-0700
TZOFFSETTO:-0800
TZNAME:PST
DTSTART:20261101T090000
END:STANDARD
END:VTIMEZONE
BEGIN:VEVENT
DTSTART;TZID=America/Los_Angeles:20250127T103000
DTEND;TZID=America/Los_Angeles:20250127T113000
DTSTAMP:20260419T143524
CREATED:20241103T185537Z
LAST-MODIFIED:20250403T175821Z
UID:10023041-1737973800-1737977400@www.venturatownehouse.com
SUMMARY:Piano Music
DESCRIPTION:
URL:https://www.venturatownehouse.com/event/piano-music/2025-01-27/
LOCATION:Front Lobby
CATEGORIES:Entertainment
END:VEVENT
BEGIN:VEVENT
DTSTART;TZID=America/Los_Angeles:20250127T183000
DTEND;TZID=America/Los_Angeles:20250127T203000
DTSTAMP:20260419T143524
CREATED:20250103T020324Z
LAST-MODIFIED:20250103T020325Z
UID:10024612-1738002600-1738009800@www.venturatownehouse.com
SUMMARY:Monday Night at the Movies
DESCRIPTION:January 2024 Movies:\nMonday\, Jan 6 – “Six Triple Eight”\nMonday\, Jan 13 – “Maria!” – the Story of Maria Callas\nMonday\, Jan 20 – “Here”\nMonday\, Jan 27 – “Conclave”
URL:https://www.venturatownehouse.com/event/monday-night-at-the-movies-2/2025-01-27/
LOCATION:Vista Room – 7th Floor
CATEGORIES:Entertainment
END:VEVENT
BEGIN:VEVENT
DTSTART;TZID=America/Los_Angeles:20250129T103000
DTEND;TZID=America/Los_Angeles:20250129T113000
DTSTAMP:20260419T143524
CREATED:20240618T044144Z
LAST-MODIFIED:20251102T175448Z
UID:10027216-1738146600-1738150200@www.venturatownehouse.com
SUMMARY:Piano with Barb
DESCRIPTION:
URL:https://www.venturatownehouse.com/event/piano-w-barb/2025-01-29/
LOCATION:Front Lobby
CATEGORIES:Entertainment
END:VEVENT
BEGIN:VEVENT
DTSTART;TZID=America/Los_Angeles:20250203T103000
DTEND;TZID=America/Los_Angeles:20250203T113000
DTSTAMP:20260419T143524
CREATED:20241103T185537Z
LAST-MODIFIED:20250403T175821Z
UID:10023042-1738578600-1738582200@www.venturatownehouse.com
SUMMARY:Piano Music
DESCRIPTION:
URL:https://www.venturatownehouse.com/event/piano-music/2025-02-03/
LOCATION:Front Lobby
CATEGORIES:Entertainment
END:VEVENT
BEGIN:VEVENT
DTSTART;TZID=America/Los_Angeles:20250203T183000
DTEND;TZID=America/Los_Angeles:20250203T203000
DTSTAMP:20260419T143524
CREATED:20250103T020324Z
LAST-MODIFIED:20250103T020325Z
UID:10024613-1738607400-1738614600@www.venturatownehouse.com
SUMMARY:Monday Night at the Movies
DESCRIPTION:January 2024 Movies:\nMonday\, Jan 6 – “Six Triple Eight”\nMonday\, Jan 13 – “Maria!” – the Story of Maria Callas\nMonday\, Jan 20 – “Here”\nMonday\, Jan 27 – “Conclave”
URL:https://www.venturatownehouse.com/event/monday-night-at-the-movies-2/2025-02-03/
LOCATION:Vista Room – 7th Floor
CATEGORIES:Entertainment
END:VEVENT
BEGIN:VEVENT
DTSTART;TZID=America/Los_Angeles:20250205T103000
DTEND;TZID=America/Los_Angeles:20250205T113000
DTSTAMP:20260419T143524
CREATED:20240618T044144Z
LAST-MODIFIED:20251102T175448Z
UID:10027217-1738751400-1738755000@www.venturatownehouse.com
SUMMARY:Piano with Barb
DESCRIPTION:
URL:https://www.venturatownehouse.com/event/piano-w-barb/2025-02-05/
LOCATION:Front Lobby
CATEGORIES:Entertainment
END:VEVENT
BEGIN:VEVENT
DTSTART;TZID=America/Los_Angeles:20250205T140000
DTEND;TZID=America/Los_Angeles:20250205T150000
DTSTAMP:20260419T143524
CREATED:20250206T012821Z
LAST-MODIFIED:20250206T012821Z
UID:10038058-1738764000-1738767600@www.venturatownehouse.com
SUMMARY:Concert with Renee
DESCRIPTION:
URL:https://www.venturatownehouse.com/event/concert-with-renee-4/
LOCATION:Vista Room – 7th Floor
CATEGORIES:Entertainment
END:VEVENT
BEGIN:VEVENT
DTSTART;TZID=America/Los_Angeles:20250207T150000
DTEND;TZID=America/Los_Angeles:20250207T170000
DTSTAMP:20260419T143524
CREATED:20250206T033118Z
LAST-MODIFIED:20250206T033118Z
UID:10038616-1738940400-1738947600@www.venturatownehouse.com
SUMMARY:Happy Hour with Steve Ormand Trio
DESCRIPTION:
URL:https://www.venturatownehouse.com/event/happy-hour-with-steve-ormand-trio/
LOCATION:Dining Room Lounge
CATEGORIES:Entertainment
END:VEVENT
BEGIN:VEVENT
DTSTART;TZID=America/Los_Angeles:20250210T103000
DTEND;TZID=America/Los_Angeles:20250210T113000
DTSTAMP:20260419T143524
CREATED:20241103T185537Z
LAST-MODIFIED:20250403T175821Z
UID:10023043-1739183400-1739187000@www.venturatownehouse.com
SUMMARY:Piano Music
DESCRIPTION:
URL:https://www.venturatownehouse.com/event/piano-music/2025-02-10/
LOCATION:Front Lobby
CATEGORIES:Entertainment
END:VEVENT
BEGIN:VEVENT
DTSTART;TZID=America/Los_Angeles:20250210T183000
DTEND;TZID=America/Los_Angeles:20250210T203000
DTSTAMP:20260419T143524
CREATED:20250205T225525Z
LAST-MODIFIED:20250205T225525Z
UID:10024614-1739212200-1739219400@www.venturatownehouse.com
SUMMARY:Monday Night at the Movies
DESCRIPTION:February 2024 Movies – Oscar Nominated Films:\nMonday\, Feb 3 – “Wicked”\nMonday\, Feb 10 – “Amora”\nMonday\, Feb 17 – “Substance”\nMonday\, Feb 24 – “Amelia Perez”
URL:https://www.venturatownehouse.com/event/monday-night-at-the-movies-2-2/2025-02-10/
LOCATION:Vista Room – 7th Floor
CATEGORIES:Entertainment
END:VEVENT
BEGIN:VEVENT
DTSTART;TZID=America/Los_Angeles:20250212T103000
DTEND;TZID=America/Los_Angeles:20250212T113000
DTSTAMP:20260419T143524
CREATED:20240618T044144Z
LAST-MODIFIED:20251102T175448Z
UID:10027218-1739356200-1739359800@www.venturatownehouse.com
SUMMARY:Piano with Barb
DESCRIPTION:
URL:https://www.venturatownehouse.com/event/piano-w-barb/2025-02-12/
LOCATION:Front Lobby
CATEGORIES:Entertainment
END:VEVENT
BEGIN:VEVENT
DTSTART;TZID=America/Los_Angeles:20250214T150000
DTEND;TZID=America/Los_Angeles:20250214T163000
DTSTAMP:20260419T143524
CREATED:20250206T033242Z
LAST-MODIFIED:20250206T034430Z
UID:10038617-1739545200-1739550600@www.venturatownehouse.com
SUMMARY:Happy Hour with the Townehouse Singers and Birthday Celebration
DESCRIPTION:
URL:https://www.venturatownehouse.com/event/happy-hour-with-the-townehouse-singers-and-birthday-celebration/
LOCATION:Dining Room Lounge
CATEGORIES:Entertainment
END:VEVENT
BEGIN:VEVENT
DTSTART;TZID=America/Los_Angeles:20250217T103000
DTEND;TZID=America/Los_Angeles:20250217T113000
DTSTAMP:20260419T143524
CREATED:20241103T185537Z
LAST-MODIFIED:20250403T175821Z
UID:10023044-1739788200-1739791800@www.venturatownehouse.com
SUMMARY:Piano Music
DESCRIPTION:
URL:https://www.venturatownehouse.com/event/piano-music/2025-02-17/
LOCATION:Front Lobby
CATEGORIES:Entertainment
END:VEVENT
BEGIN:VEVENT
DTSTART;TZID=America/Los_Angeles:20250217T183000
DTEND;TZID=America/Los_Angeles:20250217T203000
DTSTAMP:20260419T143524
CREATED:20250205T225525Z
LAST-MODIFIED:20250205T225525Z
UID:10024615-1739817000-1739824200@www.venturatownehouse.com
SUMMARY:Monday Night at the Movies
DESCRIPTION:February 2024 Movies – Oscar Nominated Films:\nMonday\, Feb 3 – “Wicked”\nMonday\, Feb 10 – “Amora”\nMonday\, Feb 17 – “Substance”\nMonday\, Feb 24 – “Amelia Perez”
URL:https://www.venturatownehouse.com/event/monday-night-at-the-movies-2-2/2025-02-17/
LOCATION:Vista Room – 7th Floor
CATEGORIES:Entertainment
END:VEVENT
BEGIN:VEVENT
DTSTART;TZID=America/Los_Angeles:20250219T103000
DTEND;TZID=America/Los_Angeles:20250219T113000
DTSTAMP:20260419T143524
CREATED:20240618T044144Z
LAST-MODIFIED:20251102T175448Z
UID:10027219-1739961000-1739964600@www.venturatownehouse.com
SUMMARY:Piano with Barb
DESCRIPTION:
URL:https://www.venturatownehouse.com/event/piano-w-barb/2025-02-19/
LOCATION:Front Lobby
CATEGORIES:Entertainment
END:VEVENT
BEGIN:VEVENT
DTSTART;TZID=America/Los_Angeles:20250221T150000
DTEND;TZID=America/Los_Angeles:20250221T170000
DTSTAMP:20260419T143524
CREATED:20250206T033452Z
LAST-MODIFIED:20250206T034117Z
UID:10038618-1740150000-1740157200@www.venturatownehouse.com
SUMMARY:Happy Hour with Barbara and Chris "Tribute to Black History"
DESCRIPTION:
URL:https://www.venturatownehouse.com/event/happy-hour-with-barbara-and-chris-tribute-to-black-history/
LOCATION:Dining Room Lounge
CATEGORIES:Entertainment
END:VEVENT
BEGIN:VEVENT
DTSTART;TZID=America/Los_Angeles:20250224T103000
DTEND;TZID=America/Los_Angeles:20250224T113000
DTSTAMP:20260419T143524
CREATED:20241103T185537Z
LAST-MODIFIED:20250403T175821Z
UID:10038649-1740393000-1740396600@www.venturatownehouse.com
SUMMARY:Piano Music
DESCRIPTION:
URL:https://www.venturatownehouse.com/event/piano-music/2025-02-24/
LOCATION:Front Lobby
CATEGORIES:Entertainment
END:VEVENT
BEGIN:VEVENT
DTSTART;TZID=America/Los_Angeles:20250224T103000
DTEND;TZID=America/Los_Angeles:20250224T113000
DTSTAMP:20260419T143524
CREATED:20250306T004737Z
LAST-MODIFIED:20250306T004738Z
UID:10023045-1740393000-1740396600@www.venturatownehouse.com
SUMMARY:Piano Music
DESCRIPTION:
URL:https://www.venturatownehouse.com/event/piano-music-2/2025-02-24/
LOCATION:Front Lobby
CATEGORIES:Entertainment
END:VEVENT
BEGIN:VEVENT
DTSTART;TZID=America/Los_Angeles:20250224T183000
DTEND;TZID=America/Los_Angeles:20250224T203000
DTSTAMP:20260419T143524
CREATED:20250205T225525Z
LAST-MODIFIED:20250205T225525Z
UID:10024616-1740421800-1740429000@www.venturatownehouse.com
SUMMARY:Monday Night at the Movies
DESCRIPTION:February 2024 Movies – Oscar Nominated Films:\nMonday\, Feb 3 – “Wicked”\nMonday\, Feb 10 – “Amora”\nMonday\, Feb 17 – “Substance”\nMonday\, Feb 24 – “Amelia Perez”
URL:https://www.venturatownehouse.com/event/monday-night-at-the-movies-2-2/2025-02-24/
LOCATION:Vista Room – 7th Floor
CATEGORIES:Entertainment
END:VEVENT
BEGIN:VEVENT
DTSTART;TZID=America/Los_Angeles:20250226T103000
DTEND;TZID=America/Los_Angeles:20250226T113000
DTSTAMP:20260419T143524
CREATED:20240618T044144Z
LAST-MODIFIED:20251102T175448Z
UID:10027220-1740565800-1740569400@www.venturatownehouse.com
SUMMARY:Piano with Barb
DESCRIPTION:
URL:https://www.venturatownehouse.com/event/piano-w-barb/2025-02-26/
LOCATION:Front Lobby
CATEGORIES:Entertainment
END:VEVENT
BEGIN:VEVENT
DTSTART;TZID=America/Los_Angeles:20250303T183000
DTEND;TZID=America/Los_Angeles:20250303T203000
DTSTAMP:20260419T143524
CREATED:20250306T005301Z
LAST-MODIFIED:20250403T163919Z
UID:10024617-1741026600-1741033800@www.venturatownehouse.com
SUMMARY:Monday Night at the Movies
DESCRIPTION:March 2024 Movies:\nMonday\, March 3 – “Complete Unknown”\nMonday\, March 10 – “It Ends With Us”\nMonday\, March 17 – “Darby O’Gill and the Little People”\nMonday\, March 24 – “Baby Girl”\nMonday\, March 31 – “Bridget Jones Baby”
URL:https://www.venturatownehouse.com/event/monday-night-at-the-movies-2-2-2/2025-03-03/
LOCATION:Vista Room – 7th Floor
CATEGORIES:Entertainment
END:VEVENT
BEGIN:VEVENT
DTSTART;TZID=America/Los_Angeles:20250305T103000
DTEND;TZID=America/Los_Angeles:20250305T113000
DTSTAMP:20260419T143524
CREATED:20240618T044144Z
LAST-MODIFIED:20251102T175448Z
UID:10027221-1741170600-1741174200@www.venturatownehouse.com
SUMMARY:Piano with Barb
DESCRIPTION:
URL:https://www.venturatownehouse.com/event/piano-w-barb/2025-03-05/
LOCATION:Front Lobby
CATEGORIES:Entertainment
END:VEVENT
BEGIN:VEVENT
DTSTART;TZID=America/Los_Angeles:20250305T140000
DTEND;TZID=America/Los_Angeles:20250305T150000
DTSTAMP:20260419T143524
CREATED:20250306T165428Z
LAST-MODIFIED:20250306T170545Z
UID:10038934-1741183200-1741186800@www.venturatownehouse.com
SUMMARY:Piano Concert with Renee
DESCRIPTION:
URL:https://www.venturatownehouse.com/event/piano-concert-with-renee/
LOCATION:Vista Room – 7th Floor
CATEGORIES:Entertainment
END:VEVENT
BEGIN:VEVENT
DTSTART;TZID=America/Los_Angeles:20250310T183000
DTEND;TZID=America/Los_Angeles:20250310T203000
DTSTAMP:20260419T143524
CREATED:20250306T005301Z
LAST-MODIFIED:20250403T163919Z
UID:10024618-1741631400-1741638600@www.venturatownehouse.com
SUMMARY:Monday Night at the Movies
DESCRIPTION:March 2024 Movies:\nMonday\, March 3 – “Complete Unknown”\nMonday\, March 10 – “It Ends With Us”\nMonday\, March 17 – “Darby O’Gill and the Little People”\nMonday\, March 24 – “Baby Girl”\nMonday\, March 31 – “Bridget Jones Baby”
URL:https://www.venturatownehouse.com/event/monday-night-at-the-movies-2-2-2/2025-03-10/
LOCATION:Vista Room – 7th Floor
CATEGORIES:Entertainment
END:VEVENT
BEGIN:VEVENT
DTSTART;TZID=America/Los_Angeles:20250312T103000
DTEND;TZID=America/Los_Angeles:20250312T113000
DTSTAMP:20260419T143524
CREATED:20240618T044144Z
LAST-MODIFIED:20251102T175448Z
UID:10027222-1741775400-1741779000@www.venturatownehouse.com
SUMMARY:Piano with Barb
DESCRIPTION:
URL:https://www.venturatownehouse.com/event/piano-w-barb/2025-03-12/
LOCATION:Front Lobby
CATEGORIES:Entertainment
END:VEVENT
BEGIN:VEVENT
DTSTART;TZID=America/Los_Angeles:20250315T063000
DTEND;TZID=America/Los_Angeles:20250315T073000
DTSTAMP:20260419T143524
CREATED:20250306T003517Z
LAST-MODIFIED:20250306T003517Z
UID:10038638-1742020200-1742023800@www.venturatownehouse.com
SUMMARY:Piano Concert with Frederik
DESCRIPTION:
URL:https://www.venturatownehouse.com/event/piano-concert-with-frederik-2/
CATEGORIES:Entertainment
END:VEVENT
BEGIN:VEVENT
DTSTART;TZID=America/Los_Angeles:20250317T183000
DTEND;TZID=America/Los_Angeles:20250317T203000
DTSTAMP:20260419T143524
CREATED:20250306T005301Z
LAST-MODIFIED:20250403T163919Z
UID:10024619-1742236200-1742243400@www.venturatownehouse.com
SUMMARY:Monday Night at the Movies
DESCRIPTION:March 2024 Movies:\nMonday\, March 3 – “Complete Unknown”\nMonday\, March 10 – “It Ends With Us”\nMonday\, March 17 – “Darby O’Gill and the Little People”\nMonday\, March 24 – “Baby Girl”\nMonday\, March 31 – “Bridget Jones Baby”
URL:https://www.venturatownehouse.com/event/monday-night-at-the-movies-2-2-2/2025-03-17/
LOCATION:Vista Room – 7th Floor
CATEGORIES:Entertainment
END:VEVENT
BEGIN:VEVENT
DTSTART;TZID=America/Los_Angeles:20250319T103000
DTEND;TZID=America/Los_Angeles:20250319T113000
DTSTAMP:20260419T143524
CREATED:20240618T044144Z
LAST-MODIFIED:20251102T175448Z
UID:10027223-1742380200-1742383800@www.venturatownehouse.com
SUMMARY:Piano with Barb
DESCRIPTION:
URL:https://www.venturatownehouse.com/event/piano-w-barb/2025-03-19/
LOCATION:Front Lobby
CATEGORIES:Entertainment
END:VEVENT
BEGIN:VEVENT
DTSTART;TZID=America/Los_Angeles:20250324T183000
DTEND;TZID=America/Los_Angeles:20250324T203000
DTSTAMP:20260419T143524
CREATED:20250306T005301Z
LAST-MODIFIED:20250403T163919Z
UID:10024620-1742841000-1742848200@www.venturatownehouse.com
SUMMARY:Monday Night at the Movies
DESCRIPTION:March 2024 Movies:\nMonday\, March 3 – “Complete Unknown”\nMonday\, March 10 – “It Ends With Us”\nMonday\, March 17 – “Darby O’Gill and the Little People”\nMonday\, March 24 – “Baby Girl”\nMonday\, March 31 – “Bridget Jones Baby”
URL:https://www.venturatownehouse.com/event/monday-night-at-the-movies-2-2-2/2025-03-24/
LOCATION:Vista Room – 7th Floor
CATEGORIES:Entertainment
END:VEVENT
BEGIN:VEVENT
DTSTART;TZID=America/Los_Angeles:20250326T103000
DTEND;TZID=America/Los_Angeles:20250326T113000
DTSTAMP:20260419T143524
CREATED:20240618T044144Z
LAST-MODIFIED:20251102T175448Z
UID:10027224-1742985000-1742988600@www.venturatownehouse.com
SUMMARY:Piano with Barb
DESCRIPTION:
URL:https://www.venturatownehouse.com/event/piano-w-barb/2025-03-26/
LOCATION:Front Lobby
CATEGORIES:Entertainment
END:VEVENT
END:VCALENDAR