BEGIN:VCALENDAR
VERSION:2.0
PRODID:-//Ventura Townehouse - ECPv6.15.20//NONSGML v1.0//EN
CALSCALE:GREGORIAN
METHOD:PUBLISH
X-ORIGINAL-URL:https://www.venturatownehouse.com
X-WR-CALDESC:Events for Ventura Townehouse
REFRESH-INTERVAL;VALUE=DURATION:PT1H
X-Robots-Tag:noindex
X-PUBLISHED-TTL:PT1H
BEGIN:VTIMEZONE
TZID:America/Los_Angeles
BEGIN:DAYLIGHT
TZOFFSETFROM:-0800
TZOFFSETTO:-0700
TZNAME:PDT
DTSTART:20230312T100000
END:DAYLIGHT
BEGIN:STANDARD
TZOFFSETFROM:-0700
TZOFFSETTO:-0800
TZNAME:PST
DTSTART:20231105T090000
END:STANDARD
BEGIN:DAYLIGHT
TZOFFSETFROM:-0800
TZOFFSETTO:-0700
TZNAME:PDT
DTSTART:20240310T100000
END:DAYLIGHT
BEGIN:STANDARD
TZOFFSETFROM:-0700
TZOFFSETTO:-0800
TZNAME:PST
DTSTART:20241103T090000
END:STANDARD
BEGIN:DAYLIGHT
TZOFFSETFROM:-0800
TZOFFSETTO:-0700
TZNAME:PDT
DTSTART:20250309T100000
END:DAYLIGHT
BEGIN:STANDARD
TZOFFSETFROM:-0700
TZOFFSETTO:-0800
TZNAME:PST
DTSTART:20251102T090000
END:STANDARD
END:VTIMEZONE
BEGIN:VEVENT
DTSTART;TZID=America/Los_Angeles:20240701T103000
DTEND;TZID=America/Los_Angeles:20240701T110000
DTSTAMP:20260419T052220
CREATED:20240617T110138Z
LAST-MODIFIED:20240701T112502Z
UID:10010352-1719829800-1719831600@www.venturatownehouse.com
SUMMARY:Bible Study
DESCRIPTION:
URL:https://www.venturatownehouse.com/event/bible-study/2024-07-01/
LOCATION:Founder’s Room – 7th Floor
CATEGORIES:Social Gatherings
END:VEVENT
BEGIN:VEVENT
DTSTART;TZID=America/Los_Angeles:20240701T140000
DTEND;TZID=America/Los_Angeles:20240701T150000
DTSTAMP:20260419T052220
CREATED:20240617T110550Z
LAST-MODIFIED:20240701T114122Z
UID:10016730-1719842400-1719846000@www.venturatownehouse.com
SUMMARY:Beanbag Baseball
DESCRIPTION:
URL:https://www.venturatownehouse.com/event/beanbag-baseball/2024-07-01/
LOCATION:Dining Room Lounge
CATEGORIES:Activities & Games
END:VEVENT
BEGIN:VEVENT
DTSTART;TZID=America/Los_Angeles:20240701T183000
DTEND;TZID=America/Los_Angeles:20240701T200000
DTSTAMP:20260419T052221
CREATED:20240617T223425Z
LAST-MODIFIED:20240701T123426Z
UID:10016804-1719858600-1719864000@www.venturatownehouse.com
SUMMARY:Monday Night at the Movies
DESCRIPTION:
URL:https://www.venturatownehouse.com/event/monday-night-at-the-movies-4/2024-07-01/
LOCATION:Vista Room – 7th Floor
CATEGORIES:Entertainment
END:VEVENT
BEGIN:VEVENT
DTSTART;TZID=America/Los_Angeles:20240702T103000
DTEND;TZID=America/Los_Angeles:20240702T110000
DTSTAMP:20260419T052221
CREATED:20240617T111950Z
LAST-MODIFIED:20240701T123947Z
UID:10016809-1719916200-1719918000@www.venturatownehouse.com
SUMMARY:Wellness Check
DESCRIPTION:
URL:https://www.venturatownehouse.com/event/wellness-check/2024-07-02/
LOCATION:Basement Clinic – Lower Level
CATEGORIES:Fitness & Health
END:VEVENT
BEGIN:VEVENT
DTSTART;TZID=America/Los_Angeles:20240702T140000
DTEND;TZID=America/Los_Angeles:20240702T150000
DTSTAMP:20260419T052221
CREATED:20240617T112736Z
LAST-MODIFIED:20240701T124913Z
UID:10016832-1719928800-1719932400@www.venturatownehouse.com
SUMMARY:Two Card Bingo
DESCRIPTION:
URL:https://www.venturatownehouse.com/event/two-card-bingo/2024-07-02/
LOCATION:Dining Room Lounge
CATEGORIES:Activities & Games
END:VEVENT
BEGIN:VEVENT
DTSTART;TZID=America/Los_Angeles:20240702T150000
DTEND;TZID=America/Los_Angeles:20240702T153000
DTSTAMP:20260419T052221
CREATED:20240617T112826Z
LAST-MODIFIED:20240701T125031Z
UID:10016837-1719932400-1719934200@www.venturatownehouse.com
SUMMARY:Knitting Group
DESCRIPTION:
URL:https://www.venturatownehouse.com/event/knitting-group/2024-07-02/
LOCATION:Founder’s Room – 7th Floor
CATEGORIES:Activities & Games
END:VEVENT
BEGIN:VEVENT
DTSTART;TZID=America/Los_Angeles:20240702T183000
DTEND;TZID=America/Los_Angeles:20240702T200000
DTSTAMP:20260419T052221
CREATED:20240617T113054Z
LAST-MODIFIED:20240701T125852Z
UID:10016845-1719945000-1719950400@www.venturatownehouse.com
SUMMARY:Poker and Blackjack
DESCRIPTION:
URL:https://www.venturatownehouse.com/event/poker-and-blackjack/2024-07-02/
LOCATION:Front Lobby
CATEGORIES:Activities & Games
END:VEVENT
BEGIN:VEVENT
DTSTART;TZID=America/Los_Angeles:20240703T093000
DTEND;TZID=America/Los_Angeles:20240703T100000
DTSTAMP:20260419T052221
CREATED:20240617T114332Z
LAST-MODIFIED:20240701T130012Z
UID:10016850-1719999000-1720000800@www.venturatownehouse.com
SUMMARY:Catholic Mass
DESCRIPTION:
URL:https://www.venturatownehouse.com/event/catholic-mass/2024-07-03/
LOCATION:Chapel – 7th Floor
CATEGORIES:Social Gatherings
END:VEVENT
BEGIN:VEVENT
DTSTART;TZID=America/Los_Angeles:20240703T103000
DTEND;TZID=America/Los_Angeles:20240703T113000
DTSTAMP:20260419T052221
CREATED:20240701T130520Z
LAST-MODIFIED:20240701T130520Z
UID:10016860-1720002600-1720006200@www.venturatownehouse.com
SUMMARY:Scenic Drive & Lunch at Wood Ranch
DESCRIPTION:Wednesday\, July 3rd \nJoin us for a short scenic drive along the coast\, then lunch at the Wood Ranch restaurant. \nWe will leave the Front Lobby at 10:30am. Sign up early in the Dining Room Lounge
URL:https://www.venturatownehouse.com/event/scenic-drive-lunch-at-wood-ranch/
LOCATION:Front Lobby
CATEGORIES:Outings
END:VEVENT
BEGIN:VEVENT
DTSTART;TZID=America/Los_Angeles:20240704T110000
DTEND;TZID=America/Los_Angeles:20240704T150000
DTSTAMP:20260419T052221
CREATED:20240701T131510Z
LAST-MODIFIED:20240701T152244Z
UID:10016872-1720090800-1720105200@www.venturatownehouse.com
SUMMARY:Independence Day Barbeque
DESCRIPTION:Concert in the Park with music featuring Orchard Blue Grass Band
URL:https://www.venturatownehouse.com/event/independence-day-barbeque/
LOCATION:Outdoor – Park Area
CATEGORIES:Special Events
END:VEVENT
BEGIN:VEVENT
DTSTART;TZID=America/Los_Angeles:20240704T183000
DTEND;TZID=America/Los_Angeles:20240704T200000
DTSTAMP:20260419T052221
CREATED:20240701T131639Z
LAST-MODIFIED:20240701T152354Z
UID:10016873-1720117800-1720123200@www.venturatownehouse.com
SUMMARY:Movie Musical Yankee Doodle Dandy
DESCRIPTION:
URL:https://www.venturatownehouse.com/event/movie-musical-yankee-doodle-dandy/
LOCATION:Dining Room Lounge
CATEGORIES:Special Events
END:VEVENT
BEGIN:VEVENT
DTSTART;TZID=America/Los_Angeles:20240705T110000
DTEND;TZID=America/Los_Angeles:20240705T130000
DTSTAMP:20260419T052221
CREATED:20240617T221152Z
LAST-MODIFIED:20240701T133945Z
UID:10016878-1720177200-1720184400@www.venturatownehouse.com
SUMMARY:Meditation Group
DESCRIPTION:
URL:https://www.venturatownehouse.com/event/meditation-group/2024-07-05/
LOCATION:Chapel – 7th Floor
CATEGORIES:Fitness & Health
END:VEVENT
BEGIN:VEVENT
DTSTART;TZID=America/Los_Angeles:20240705T140000
DTEND;TZID=America/Los_Angeles:20240705T150000
DTSTAMP:20260419T052221
CREATED:20240617T221430Z
LAST-MODIFIED:20240701T134124Z
UID:10016882-1720188000-1720191600@www.venturatownehouse.com
SUMMARY:Line Dancing
DESCRIPTION:
URL:https://www.venturatownehouse.com/event/line-dancing/2024-07-05/
LOCATION:Front Lobby
CATEGORIES:Fitness & Health
END:VEVENT
BEGIN:VEVENT
DTSTART;TZID=America/Los_Angeles:20240705T150000
DTEND;TZID=America/Los_Angeles:20240705T160000
DTSTAMP:20260419T052221
CREATED:20240701T134854Z
LAST-MODIFIED:20240701T144346Z
UID:10016886-1720191600-1720195200@www.venturatownehouse.com
SUMMARY:Wine Social
DESCRIPTION:Classical Guitar with Gilberto \nFriday\, July 5th join us for a relaxing wine social with our favorite guitarist Gilberto in the\nfront Lobby.
URL:https://www.venturatownehouse.com/event/wine-social/
LOCATION:The Pier
CATEGORIES:Social Gatherings
END:VEVENT
BEGIN:VEVENT
DTSTART;TZID=America/Los_Angeles:20240705T163000
DTEND;TZID=America/Los_Angeles:20240705T183000
DTSTAMP:20260419T052221
CREATED:20240617T221950Z
LAST-MODIFIED:20240701T135859Z
UID:10015364-1720197000-1720204200@www.venturatownehouse.com
SUMMARY:Shabbat Welcoming
DESCRIPTION:
URL:https://www.venturatownehouse.com/event/shabbat-welcoming/
LOCATION:Front Lobby
CATEGORIES:Social Gatherings
END:VEVENT
BEGIN:VEVENT
DTSTART;TZID=America/Los_Angeles:20240706T103000
DTEND;TZID=America/Los_Angeles:20240706T130000
DTSTAMP:20260419T052221
CREATED:20240617T094901Z
LAST-MODIFIED:20240701T140208Z
UID:10016891-1720261800-1720270800@www.venturatownehouse.com
SUMMARY:Trivia
DESCRIPTION:
URL:https://www.venturatownehouse.com/event/trivia/2024-07-06/
LOCATION:6th Floor
CATEGORIES:Activities & Games
END:VEVENT
BEGIN:VEVENT
DTSTART;TZID=America/Los_Angeles:20240706T140000
DTEND;TZID=America/Los_Angeles:20240706T150000
DTSTAMP:20260419T052221
CREATED:20240617T095304Z
LAST-MODIFIED:20240701T140507Z
UID:10016895-1720274400-1720278000@www.venturatownehouse.com
SUMMARY:Multiple Card Bingo
DESCRIPTION:
URL:https://www.venturatownehouse.com/event/multiple-card-bingo/2024-07-06/
LOCATION:Dining Room Lounge
CATEGORIES:Activities & Games
END:VEVENT
BEGIN:VEVENT
DTSTART;TZID=America/Los_Angeles:20240706T153000
DTEND;TZID=America/Los_Angeles:20240706T183000
DTSTAMP:20260419T052221
CREATED:20240617T095953Z
LAST-MODIFIED:20240701T140626Z
UID:10016899-1720279800-1720290600@www.venturatownehouse.com
SUMMARY:Mexican Train Dominoes
DESCRIPTION:
URL:https://www.venturatownehouse.com/event/mexican-train-dominoes/2024-07-06/
LOCATION:Dining Room Lounge
CATEGORIES:Activities & Games
END:VEVENT
BEGIN:VEVENT
DTSTART;TZID=America/Los_Angeles:20240707T183000
DTEND;TZID=America/Los_Angeles:20240707T200000
DTSTAMP:20260419T052221
CREATED:20240617T102640Z
LAST-MODIFIED:20240701T141951Z
UID:10016917-1720377000-1720382400@www.venturatownehouse.com
SUMMARY:Board Games
DESCRIPTION:
URL:https://www.venturatownehouse.com/event/board-games/2024-07-07/
LOCATION:Dining Room Lounge
CATEGORIES:Activities & Games
END:VEVENT
BEGIN:VEVENT
DTSTART;TZID=America/Los_Angeles:20240708T103000
DTEND;TZID=America/Los_Angeles:20240708T110000
DTSTAMP:20260419T052221
CREATED:20240617T110138Z
LAST-MODIFIED:20240701T112502Z
UID:10010353-1720434600-1720436400@www.venturatownehouse.com
SUMMARY:Bible Study
DESCRIPTION:
URL:https://www.venturatownehouse.com/event/bible-study/2024-07-08/
LOCATION:Founder’s Room – 7th Floor
CATEGORIES:Social Gatherings
END:VEVENT
BEGIN:VEVENT
DTSTART;TZID=America/Los_Angeles:20240708T140000
DTEND;TZID=America/Los_Angeles:20240708T150000
DTSTAMP:20260419T052221
CREATED:20240617T110550Z
LAST-MODIFIED:20240701T114122Z
UID:10016731-1720447200-1720450800@www.venturatownehouse.com
SUMMARY:Beanbag Baseball
DESCRIPTION:
URL:https://www.venturatownehouse.com/event/beanbag-baseball/2024-07-08/
LOCATION:Dining Room Lounge
CATEGORIES:Activities & Games
END:VEVENT
BEGIN:VEVENT
DTSTART;TZID=America/Los_Angeles:20240708T183000
DTEND;TZID=America/Los_Angeles:20240708T200000
DTSTAMP:20260419T052221
CREATED:20240617T223425Z
LAST-MODIFIED:20240701T123426Z
UID:10016805-1720463400-1720468800@www.venturatownehouse.com
SUMMARY:Monday Night at the Movies
DESCRIPTION:
URL:https://www.venturatownehouse.com/event/monday-night-at-the-movies-4/2024-07-08/
LOCATION:Vista Room – 7th Floor
CATEGORIES:Entertainment
END:VEVENT
BEGIN:VEVENT
DTSTART;TZID=America/Los_Angeles:20240709T103000
DTEND;TZID=America/Los_Angeles:20240709T110000
DTSTAMP:20260419T052221
CREATED:20240617T111950Z
LAST-MODIFIED:20240701T123947Z
UID:10016810-1720521000-1720522800@www.venturatownehouse.com
SUMMARY:Wellness Check
DESCRIPTION:
URL:https://www.venturatownehouse.com/event/wellness-check/2024-07-09/
LOCATION:Basement Clinic – Lower Level
CATEGORIES:Fitness & Health
END:VEVENT
BEGIN:VEVENT
DTSTART;TZID=America/Los_Angeles:20240709T140000
DTEND;TZID=America/Los_Angeles:20240709T150000
DTSTAMP:20260419T052221
CREATED:20240617T112736Z
LAST-MODIFIED:20240701T124913Z
UID:10016833-1720533600-1720537200@www.venturatownehouse.com
SUMMARY:Two Card Bingo
DESCRIPTION:
URL:https://www.venturatownehouse.com/event/two-card-bingo/2024-07-09/
LOCATION:Dining Room Lounge
CATEGORIES:Activities & Games
END:VEVENT
BEGIN:VEVENT
DTSTART;TZID=America/Los_Angeles:20240709T150000
DTEND;TZID=America/Los_Angeles:20240709T153000
DTSTAMP:20260419T052221
CREATED:20240617T112826Z
LAST-MODIFIED:20240701T125031Z
UID:10016838-1720537200-1720539000@www.venturatownehouse.com
SUMMARY:Knitting Group
DESCRIPTION:
URL:https://www.venturatownehouse.com/event/knitting-group/2024-07-09/
LOCATION:Founder’s Room – 7th Floor
CATEGORIES:Activities & Games
END:VEVENT
BEGIN:VEVENT
DTSTART;TZID=America/Los_Angeles:20240709T183000
DTEND;TZID=America/Los_Angeles:20240709T200000
DTSTAMP:20260419T052221
CREATED:20240617T113054Z
LAST-MODIFIED:20240701T125852Z
UID:10016846-1720549800-1720555200@www.venturatownehouse.com
SUMMARY:Poker and Blackjack
DESCRIPTION:
URL:https://www.venturatownehouse.com/event/poker-and-blackjack/2024-07-09/
LOCATION:Front Lobby
CATEGORIES:Activities & Games
END:VEVENT
BEGIN:VEVENT
DTSTART;TZID=America/Los_Angeles:20240710T093000
DTEND;TZID=America/Los_Angeles:20240710T100000
DTSTAMP:20260419T052221
CREATED:20240617T114332Z
LAST-MODIFIED:20240701T130012Z
UID:10016851-1720603800-1720605600@www.venturatownehouse.com
SUMMARY:Catholic Mass
DESCRIPTION:
URL:https://www.venturatownehouse.com/event/catholic-mass/2024-07-10/
LOCATION:Chapel – 7th Floor
CATEGORIES:Social Gatherings
END:VEVENT
BEGIN:VEVENT
DTSTART;TZID=America/Los_Angeles:20240711T103000
DTEND;TZID=America/Los_Angeles:20240711T130000
DTSTAMP:20260419T052221
CREATED:20240617T114522Z
LAST-MODIFIED:20240701T144756Z
UID:10016935-1720693800-1720702800@www.venturatownehouse.com
SUMMARY:Prayer Group
DESCRIPTION:
URL:https://www.venturatownehouse.com/event/prayer-group/2024-07-11/
LOCATION:Chapel – 7th Floor
CATEGORIES:Social Gatherings
END:VEVENT
BEGIN:VEVENT
DTSTART;TZID=America/Los_Angeles:20240711T103000
DTEND;TZID=America/Los_Angeles:20240711T130000
DTSTAMP:20260419T052221
CREATED:20240617T230543Z
LAST-MODIFIED:20240701T144536Z
UID:10016932-1720693800-1720702800@www.venturatownehouse.com
SUMMARY:Donut Social
DESCRIPTION:
URL:https://www.venturatownehouse.com/event/donut-social/2024-07-11/
LOCATION:Dining Room Lounge
CATEGORIES:Social Gatherings
END:VEVENT
BEGIN:VEVENT
DTSTART;TZID=America/Los_Angeles:20240712T110000
DTEND;TZID=America/Los_Angeles:20240712T130000
DTSTAMP:20260419T052221
CREATED:20240617T221152Z
LAST-MODIFIED:20240701T133945Z
UID:10016879-1720782000-1720789200@www.venturatownehouse.com
SUMMARY:Meditation Group
DESCRIPTION:
URL:https://www.venturatownehouse.com/event/meditation-group/2024-07-12/
LOCATION:Chapel – 7th Floor
CATEGORIES:Fitness & Health
END:VEVENT
END:VCALENDAR