BEGIN:VCALENDAR
VERSION:2.0
PRODID:-//Ventura Townehouse - ECPv6.15.20//NONSGML v1.0//EN
CALSCALE:GREGORIAN
METHOD:PUBLISH
X-ORIGINAL-URL:https://www.venturatownehouse.com
X-WR-CALDESC:Events for Ventura Townehouse
REFRESH-INTERVAL;VALUE=DURATION:PT1H
X-Robots-Tag:noindex
X-PUBLISHED-TTL:PT1H
BEGIN:VTIMEZONE
TZID:America/Los_Angeles
BEGIN:DAYLIGHT
TZOFFSETFROM:-0800
TZOFFSETTO:-0700
TZNAME:PDT
DTSTART:20240310T100000
END:DAYLIGHT
BEGIN:STANDARD
TZOFFSETFROM:-0700
TZOFFSETTO:-0800
TZNAME:PST
DTSTART:20241103T090000
END:STANDARD
BEGIN:DAYLIGHT
TZOFFSETFROM:-0800
TZOFFSETTO:-0700
TZNAME:PDT
DTSTART:20250309T100000
END:DAYLIGHT
BEGIN:STANDARD
TZOFFSETFROM:-0700
TZOFFSETTO:-0800
TZNAME:PST
DTSTART:20251102T090000
END:STANDARD
BEGIN:DAYLIGHT
TZOFFSETFROM:-0800
TZOFFSETTO:-0700
TZNAME:PDT
DTSTART:20260308T100000
END:DAYLIGHT
BEGIN:STANDARD
TZOFFSETFROM:-0700
TZOFFSETTO:-0800
TZNAME:PST
DTSTART:20261101T090000
END:STANDARD
END:VTIMEZONE
BEGIN:VEVENT
DTSTART;TZID=America/Los_Angeles:20250415T140000
DTEND;TZID=America/Los_Angeles:20250415T150000
DTSTAMP:20260419T102813
CREATED:20240803T201504Z
LAST-MODIFIED:20241202T163547Z
UID:10025667-1744725600-1744729200@www.venturatownehouse.com
SUMMARY:Two Card Bingo
DESCRIPTION:
URL:https://www.venturatownehouse.com/event/two-card-bingo-2/2025-04-15/
LOCATION:Dining Room Lounge
CATEGORIES:Activities & Games
END:VEVENT
BEGIN:VEVENT
DTSTART;TZID=America/Los_Angeles:20250415T150000
DTEND;TZID=America/Los_Angeles:20250415T160000
DTSTAMP:20260419T102813
CREATED:20240803T201652Z
LAST-MODIFIED:20241202T172152Z
UID:10025927-1744729200-1744732800@www.venturatownehouse.com
SUMMARY:Knitting Group
DESCRIPTION:
URL:https://www.venturatownehouse.com/event/knitting-group-2/2025-04-15/
LOCATION:Founder’s Room – 7th Floor
CATEGORIES:Activities & Games
END:VEVENT
BEGIN:VEVENT
DTSTART;TZID=America/Los_Angeles:20250415T153000
DTEND;TZID=America/Los_Angeles:20250415T160000
DTSTAMP:20260419T102813
CREATED:20240617T112940Z
LAST-MODIFIED:20241202T172008Z
UID:10026966-1744731000-1744732800@www.venturatownehouse.com
SUMMARY:Trivia with Patti
DESCRIPTION:
URL:https://www.venturatownehouse.com/event/trivia-with-patti/2025-04-15/
LOCATION:Front Lobby
CATEGORIES:Activities & Games
END:VEVENT
BEGIN:VEVENT
DTSTART;TZID=America/Los_Angeles:20250415T170000
DTEND;TZID=America/Los_Angeles:20250415T190000
DTSTAMP:20260419T102813
CREATED:20250403T174054Z
LAST-MODIFIED:20250403T174054Z
UID:10039159-1744736400-1744743600@www.venturatownehouse.com
SUMMARY:Passover Seder
DESCRIPTION:
URL:https://www.venturatownehouse.com/event/passover-seder/
LOCATION:Vista Room – 7th Floor
CATEGORIES:Special Events
END:VEVENT
BEGIN:VEVENT
DTSTART;TZID=America/Los_Angeles:20250416T093000
DTEND;TZID=America/Los_Angeles:20250416T100000
DTSTAMP:20260419T102813
CREATED:20241104T013237Z
LAST-MODIFIED:20260101T043412Z
UID:10026705-1744795800-1744797600@www.venturatownehouse.com
SUMMARY:Catholic Mass
DESCRIPTION:
URL:https://www.venturatownehouse.com/event/catholic-mass-2-2/2025-04-16/
LOCATION:Chapel – 7th Floor
CATEGORIES:Social Gatherings
END:VEVENT
BEGIN:VEVENT
DTSTART;TZID=America/Los_Angeles:20250416T103000
DTEND;TZID=America/Los_Angeles:20250416T113000
DTSTAMP:20260419T102813
CREATED:20240618T044144Z
LAST-MODIFIED:20251102T175448Z
UID:10027227-1744799400-1744803000@www.venturatownehouse.com
SUMMARY:Piano with Barb
DESCRIPTION:
URL:https://www.venturatownehouse.com/event/piano-w-barb/2025-04-16/
LOCATION:Front Lobby
CATEGORIES:Entertainment
END:VEVENT
BEGIN:VEVENT
DTSTART;TZID=America/Los_Angeles:20250416T103000
DTEND;TZID=America/Los_Angeles:20250416T113000
DTSTAMP:20260419T102813
CREATED:20240803T180959Z
LAST-MODIFIED:20241202T190422Z
UID:10023352-1744799400-1744803000@www.venturatownehouse.com
SUMMARY:Word Mining
DESCRIPTION:
URL:https://www.venturatownehouse.com/event/word-mining-2/2025-04-16/
LOCATION:Vista Room – 7th Floor
CATEGORIES:Activities & Games
END:VEVENT
BEGIN:VEVENT
DTSTART;TZID=America/Los_Angeles:20250416T120000
DTEND;TZID=America/Los_Angeles:20250416T150000
DTSTAMP:20260419T102813
CREATED:20250403T021239Z
LAST-MODIFIED:20250403T021239Z
UID:10039054-1744804800-1744815600@www.venturatownehouse.com
SUMMARY:Movie Outing
DESCRIPTION:Movie and exact time TBA
URL:https://www.venturatownehouse.com/event/movie-outing-3/
LOCATION:Front Lobby
CATEGORIES:Outings
END:VEVENT
BEGIN:VEVENT
DTSTART;TZID=America/Los_Angeles:20250416T140000
DTEND;TZID=America/Los_Angeles:20250416T150000
DTSTAMP:20260419T102813
CREATED:20250403T171138Z
LAST-MODIFIED:20250403T181129Z
UID:10039146-1744812000-1744815600@www.venturatownehouse.com
SUMMARY:Piano Concert with Renee
DESCRIPTION:
URL:https://www.venturatownehouse.com/event/piano-concert-with-renee-2/
LOCATION:Vista Room – 7th Floor
CATEGORIES:Entertainment
END:VEVENT
BEGIN:VEVENT
DTSTART;TZID=America/Los_Angeles:20250416T150000
DTEND;TZID=America/Los_Angeles:20250416T160000
DTSTAMP:20260419T102813
CREATED:20240803T190123Z
LAST-MODIFIED:20241202T190033Z
UID:10027491-1744815600-1744819200@www.venturatownehouse.com
SUMMARY:Beanbag Baseball
DESCRIPTION:
URL:https://www.venturatownehouse.com/event/beanbag-baseball-2/2025-04-16/
LOCATION:Dining Room Lounge
CATEGORIES:Activities & Games
END:VEVENT
BEGIN:VEVENT
DTSTART;TZID=America/Los_Angeles:20250416T183000
DTEND;TZID=America/Los_Angeles:20250416T200000
DTSTAMP:20260419T102813
CREATED:20250403T003617Z
LAST-MODIFIED:20250503T002138Z
UID:10039048-1744828200-1744833600@www.venturatownehouse.com
SUMMARY:Great Courses "Guide to Birding"
DESCRIPTION:
URL:https://www.venturatownehouse.com/event/great-courses-guide-to-birding/2025-04-16/
LOCATION:Dining Room Lounge
CATEGORIES:Social Gatherings
END:VEVENT
BEGIN:VEVENT
DTSTART;TZID=America/Los_Angeles:20250417T100000
DTEND;TZID=America/Los_Angeles:20250417T110000
DTSTAMP:20260419T102813
CREATED:20241203T031707Z
LAST-MODIFIED:20250503T142001Z
UID:10035586-1744884000-1744887600@www.venturatownehouse.com
SUMMARY:Donut Social
DESCRIPTION:
URL:https://www.venturatownehouse.com/event/donut-social-3/2025-04-17/
LOCATION:Dining Room Lounge
CATEGORIES:Social Gatherings
END:VEVENT
BEGIN:VEVENT
DTSTART;TZID=America/Los_Angeles:20250417T103000
DTEND;TZID=America/Los_Angeles:20250417T130000
DTSTAMP:20260419T102813
CREATED:20240802T215058Z
LAST-MODIFIED:20241202T201015Z
UID:10028023-1744885800-1744894800@www.venturatownehouse.com
SUMMARY:Prayer Group
DESCRIPTION:
URL:https://www.venturatownehouse.com/event/prayer-group-2-2/2025-04-17/
LOCATION:Chapel – 7th Floor
CATEGORIES:Social Gatherings
END:VEVENT
BEGIN:VEVENT
DTSTART;TZID=America/Los_Angeles:20250417T150000
DTEND;TZID=America/Los_Angeles:20250417T160000
DTSTAMP:20260419T102813
CREATED:20250103T034227Z
LAST-MODIFIED:20251102T185540Z
UID:10037701-1744902000-1744905600@www.venturatownehouse.com
SUMMARY:Tai Chi with Anne
DESCRIPTION:
URL:https://www.venturatownehouse.com/event/tai-chi-with-anne/2025-04-17/
LOCATION:Vista Room – 7th Floor
CATEGORIES:Fitness & Health
END:VEVENT
BEGIN:VEVENT
DTSTART;TZID=America/Los_Angeles:20250417T183000
DTEND;TZID=America/Los_Angeles:20250417T200000
DTSTAMP:20260419T102813
CREATED:20240701T145807Z
LAST-MODIFIED:20251102T185711Z
UID:10028546-1744914600-1744920000@www.venturatownehouse.com
SUMMARY:Bingo with Barb
DESCRIPTION:
URL:https://www.venturatownehouse.com/event/bingo-night/2025-04-17/
LOCATION:Dining Room Lounge
CATEGORIES:Activities & Games
END:VEVENT
BEGIN:VEVENT
DTSTART;TZID=America/Los_Angeles:20250418T103000
DTEND;TZID=America/Los_Angeles:20250418T113000
DTSTAMP:20260419T102813
CREATED:20240803T180959Z
LAST-MODIFIED:20241202T190422Z
UID:10023353-1744972200-1744975800@www.venturatownehouse.com
SUMMARY:Word Mining
DESCRIPTION:
URL:https://www.venturatownehouse.com/event/word-mining-2/2025-04-18/
LOCATION:Vista Room – 7th Floor
CATEGORIES:Activities & Games
END:VEVENT
BEGIN:VEVENT
DTSTART;TZID=America/Los_Angeles:20250418T133000
DTEND;TZID=America/Los_Angeles:20250418T150000
DTSTAMP:20260419T102813
CREATED:20250403T170957Z
LAST-MODIFIED:20250403T170957Z
UID:10039145-1744983000-1744988400@www.venturatownehouse.com
SUMMARY:Dr Woodling Lecture "Mental Healthy"
DESCRIPTION:
URL:https://www.venturatownehouse.com/event/dr-woodling-lecture-mental-healthy/
LOCATION:Vista Room – 7th Floor
CATEGORIES:Special Events
END:VEVENT
BEGIN:VEVENT
DTSTART;TZID=America/Los_Angeles:20250418T150000
DTEND;TZID=America/Los_Angeles:20250418T170000
DTSTAMP:20260419T102813
CREATED:20250403T162920Z
LAST-MODIFIED:20250403T162920Z
UID:10039127-1744988400-1744995600@www.venturatownehouse.com
SUMMARY:Happy Hour with Steve Ormand Trio
DESCRIPTION:
URL:https://www.venturatownehouse.com/event/happy-hour-with-steve-ormand-trio-2/
LOCATION:Dining Room Lounge
CATEGORIES:Entertainment
END:VEVENT
BEGIN:VEVENT
DTSTART;TZID=America/Los_Angeles:20250419T103000
DTEND;TZID=America/Los_Angeles:20250419T113000
DTSTAMP:20260419T102813
CREATED:20240803T182626Z
LAST-MODIFIED:20251102T192750Z
UID:10030374-1745058600-1745062200@www.venturatownehouse.com
SUMMARY:Trivia Saturday
DESCRIPTION:
URL:https://www.venturatownehouse.com/event/trivia-2/2025-04-19/
LOCATION:6th Floor
CATEGORIES:Activities & Games
END:VEVENT
BEGIN:VEVENT
DTSTART;TZID=America/Los_Angeles:20250419T140000
DTEND;TZID=America/Los_Angeles:20250419T150000
DTSTAMP:20260419T102813
CREATED:20241003T020157Z
LAST-MODIFIED:20251102T080649Z
UID:10019169-1745071200-1745074800@www.venturatownehouse.com
SUMMARY:Multiple Card Bingo
DESCRIPTION:
URL:https://www.venturatownehouse.com/event/multiple-card-bingo-2-2/2025-04-19/
LOCATION:Dining Room Lounge
CATEGORIES:Activities & Games
END:VEVENT
BEGIN:VEVENT
DTSTART;TZID=America/Los_Angeles:20250419T150000
DTEND;TZID=America/Los_Angeles:20250419T160000
DTSTAMP:20260419T102813
CREATED:20240803T183010Z
LAST-MODIFIED:20251102T080328Z
UID:10049413-1745074800-1745078400@www.venturatownehouse.com
SUMMARY:Mexican Train Dominoes
DESCRIPTION:
URL:https://www.venturatownehouse.com/event/mexican-train-dominoes-2/2025-04-19/
LOCATION:Dining Room Lounge
CATEGORIES:Activities & Games
END:VEVENT
BEGIN:VEVENT
DTSTART;TZID=America/Los_Angeles:20250420T100000
DTEND;TZID=America/Los_Angeles:20250420T103000
DTSTAMP:20260419T102813
CREATED:20250403T171634Z
LAST-MODIFIED:20250403T171634Z
UID:10039147-1745143200-1745145000@www.venturatownehouse.com
SUMMARY:Easter Champagne Reception
DESCRIPTION:
URL:https://www.venturatownehouse.com/event/easter-champagne-reception/
LOCATION:Front Lobby
CATEGORIES:Special Events
END:VEVENT
BEGIN:VEVENT
DTSTART;TZID=America/Los_Angeles:20250420T103000
DTEND;TZID=America/Los_Angeles:20250420T120000
DTSTAMP:20260419T102813
CREATED:20250403T172101Z
LAST-MODIFIED:20250403T173755Z
UID:10039150-1745145000-1745150400@www.venturatownehouse.com
SUMMARY:Easter Brunch
DESCRIPTION:Chef Bryan and his team are busy planning a delicious Easter Buffet Brunch for Easter Sunday\, April 20th. We will start serving brunch at 10:30am.  If you invite a guest\, please make reservations at the front desk. The menu will be displayed in the dining room lounge. \nNancee and her activity team will scatter fun-filled Easter eggs around the community.  Look out for those GOLDEN EGGS filled with CASH!  There will be a special guest appearance from the Easter Bunny for those special pictures.
URL:https://www.venturatownehouse.com/event/easter-brunch/
LOCATION:The Landing Dining Room
CATEGORIES:Special Events
END:VEVENT
BEGIN:VEVENT
DTSTART;TZID=America/Los_Angeles:20250420T150000
DTEND;TZID=America/Los_Angeles:20250420T160000
DTSTAMP:20260419T102813
CREATED:20241202T145536Z
LAST-MODIFIED:20241202T145612Z
UID:10020427-1745161200-1745164800@www.venturatownehouse.com
SUMMARY:Sunday Worship
DESCRIPTION:
URL:https://www.venturatownehouse.com/event/sunday-worship-4/2025-04-20/
LOCATION:Dining Room Lounge
CATEGORIES:Social Gatherings
END:VEVENT
BEGIN:VEVENT
DTSTART;TZID=America/Los_Angeles:20250421T103000
DTEND;TZID=America/Los_Angeles:20250421T113000
DTSTAMP:20260419T102813
CREATED:20240803T180959Z
LAST-MODIFIED:20241202T190422Z
UID:10023354-1745231400-1745235000@www.venturatownehouse.com
SUMMARY:Word Mining
DESCRIPTION:
URL:https://www.venturatownehouse.com/event/word-mining-2/2025-04-21/
LOCATION:Vista Room – 7th Floor
CATEGORIES:Activities & Games
END:VEVENT
BEGIN:VEVENT
DTSTART;TZID=America/Los_Angeles:20250421T103000
DTEND;TZID=America/Los_Angeles:20250421T113000
DTSTAMP:20260419T102813
CREATED:20250103T031525Z
LAST-MODIFIED:20250103T032450Z
UID:10037438-1745231400-1745235000@www.venturatownehouse.com
SUMMARY:Bible Study
DESCRIPTION:
URL:https://www.venturatownehouse.com/event/bible-study-3/2025-04-21/
LOCATION:Founder’s Room – 7th Floor
CATEGORIES:Social Gatherings
END:VEVENT
BEGIN:VEVENT
DTSTART;TZID=America/Los_Angeles:20250421T140000
DTEND;TZID=America/Los_Angeles:20250421T150000
DTSTAMP:20260419T102813
CREATED:20250103T014148Z
LAST-MODIFIED:20250103T014553Z
UID:10036385-1745244000-1745247600@www.venturatownehouse.com
SUMMARY:Chair Yoga
DESCRIPTION:
URL:https://www.venturatownehouse.com/event/chair-yoga/2025-04-21/
LOCATION:Vista Room – 7th Floor
CATEGORIES:Fitness & Health
END:VEVENT
BEGIN:VEVENT
DTSTART;TZID=America/Los_Angeles:20250421T150000
DTEND;TZID=America/Los_Angeles:20250421T160000
DTSTAMP:20260419T102813
CREATED:20241202T161712Z
LAST-MODIFIED:20241202T162000Z
UID:10024360-1745247600-1745251200@www.venturatownehouse.com
SUMMARY:Writing Group
DESCRIPTION:December 2024 Writing Prompts \nDecember 2 – What does it mean to be successful? \nDecember 9 – What is the one thing you’re most grateful for in your life right now? \nDecember 16 – What is the one thing you’re most excited about for the future of technology? \nDecember 23 – Holiday Dinner \nDecember 30 – What three events most changed your life?
URL:https://www.venturatownehouse.com/event/writing-group-6/2025-04-21/
LOCATION:Founder’s Room – 7th Floor
CATEGORIES:Activities & Games
END:VEVENT
BEGIN:VEVENT
DTSTART;TZID=America/Los_Angeles:20250421T153000
DTEND;TZID=America/Los_Angeles:20250421T163000
DTSTAMP:20260419T102813
CREATED:20240802T215837Z
LAST-MODIFIED:20260101T143306Z
UID:10018897-1745249400-1745253000@www.venturatownehouse.com
SUMMARY:Wii Bowling
DESCRIPTION:
URL:https://www.venturatownehouse.com/event/wii-bowling-3-2/2025-04-21/
LOCATION:Dining Room Lounge
CATEGORIES:Activities & Games
END:VEVENT
BEGIN:VEVENT
DTSTART;TZID=America/Los_Angeles:20250421T183000
DTEND;TZID=America/Los_Angeles:20250421T203000
DTSTAMP:20260419T102813
CREATED:20250403T164502Z
LAST-MODIFIED:20250403T164502Z
UID:10039140-1745260200-1745267400@www.venturatownehouse.com
SUMMARY:Monday Night at the Movies "Barney's Version"
DESCRIPTION:
URL:https://www.venturatownehouse.com/event/monday-night-at-the-movies-barneys-version/
LOCATION:Vista Room – 7th Floor
CATEGORIES:Entertainment
END:VEVENT
END:VCALENDAR