BEGIN:VCALENDAR
VERSION:2.0
PRODID:-//Ventura Townehouse - ECPv6.15.20//NONSGML v1.0//EN
CALSCALE:GREGORIAN
METHOD:PUBLISH
X-ORIGINAL-URL:https://www.venturatownehouse.com
X-WR-CALDESC:Events for Ventura Townehouse
REFRESH-INTERVAL;VALUE=DURATION:PT1H
X-Robots-Tag:noindex
X-PUBLISHED-TTL:PT1H
BEGIN:VTIMEZONE
TZID:America/Los_Angeles
BEGIN:DAYLIGHT
TZOFFSETFROM:-0800
TZOFFSETTO:-0700
TZNAME:PDT
DTSTART:20230312T100000
END:DAYLIGHT
BEGIN:STANDARD
TZOFFSETFROM:-0700
TZOFFSETTO:-0800
TZNAME:PST
DTSTART:20231105T090000
END:STANDARD
BEGIN:DAYLIGHT
TZOFFSETFROM:-0800
TZOFFSETTO:-0700
TZNAME:PDT
DTSTART:20240310T100000
END:DAYLIGHT
BEGIN:STANDARD
TZOFFSETFROM:-0700
TZOFFSETTO:-0800
TZNAME:PST
DTSTART:20241103T090000
END:STANDARD
BEGIN:DAYLIGHT
TZOFFSETFROM:-0800
TZOFFSETTO:-0700
TZNAME:PDT
DTSTART:20250309T100000
END:DAYLIGHT
BEGIN:STANDARD
TZOFFSETFROM:-0700
TZOFFSETTO:-0800
TZNAME:PST
DTSTART:20251102T090000
END:STANDARD
END:VTIMEZONE
BEGIN:VEVENT
DTSTART;TZID=America/Los_Angeles:20240927T150000
DTEND;TZID=America/Los_Angeles:20240927T160000
DTSTAMP:20260419T093323
CREATED:20240905T141027Z
LAST-MODIFIED:20240905T141027Z
UID:10017499-1727449200-1727452800@www.venturatownehouse.com
SUMMARY:Happy Hour and Birthday Celebration with Singer Jennie Tatum
DESCRIPTION:
URL:https://www.venturatownehouse.com/event/happy-hour-and-birthday-celebration-with-singer-jennie-tatum/
LOCATION:The Pier
CATEGORIES:Social Gatherings
END:VEVENT
BEGIN:VEVENT
DTSTART;TZID=America/Los_Angeles:20240927T150000
DTEND;TZID=America/Los_Angeles:20240927T160000
DTSTAMP:20260419T093323
CREATED:20240905T140925Z
LAST-MODIFIED:20240905T140925Z
UID:10017498-1727449200-1727452800@www.venturatownehouse.com
SUMMARY:Happy Hour (TBA)
DESCRIPTION:
URL:https://www.venturatownehouse.com/event/happy-hour-tba/
LOCATION:The Pier
CATEGORIES:Social Gatherings
END:VEVENT
BEGIN:VEVENT
DTSTART;TZID=America/Los_Angeles:20240913T150000
DTEND;TZID=America/Los_Angeles:20240913T160000
DTSTAMP:20260419T093323
CREATED:20240905T140836Z
LAST-MODIFIED:20240905T140836Z
UID:10017497-1726239600-1726243200@www.venturatownehouse.com
SUMMARY:Happy Hour with the Ventura High School Jazz Band
DESCRIPTION:
URL:https://www.venturatownehouse.com/event/happy-hour-with-the-ventura-high-school-jazz-band/
LOCATION:The Pier
CATEGORIES:Social Gatherings
END:VEVENT
BEGIN:VEVENT
DTSTART;TZID=America/Los_Angeles:20240906T150000
DTEND;TZID=America/Los_Angeles:20240906T160000
DTSTAMP:20260419T093323
CREATED:20240905T140741Z
LAST-MODIFIED:20240905T140741Z
UID:10017496-1725634800-1725638400@www.venturatownehouse.com
SUMMARY:Happy Hour Classical Guitar w/ Gilbert and Percussionist
DESCRIPTION:
URL:https://www.venturatownehouse.com/event/happy-hour-classical-guitar-w-gilbert-and-percussionist/
LOCATION:The Pier
CATEGORIES:Social Gatherings
END:VEVENT
BEGIN:VEVENT
DTSTART;TZID=America/Los_Angeles:20240830T080000
DTEND;TZID=America/Los_Angeles:20240830T170000
DTSTAMP:20260419T093323
CREATED:20240803T211218Z
LAST-MODIFIED:20240803T211218Z
UID:10017299-1725004800-1725037200@www.venturatownehouse.com
SUMMARY:Happy Hour with Steve Ormond Trio
DESCRIPTION:
URL:https://www.venturatownehouse.com/event/happy-hour-with-steve-ormond-trio/
LOCATION:The Pier
CATEGORIES:Social Gatherings
END:VEVENT
BEGIN:VEVENT
DTSTART;TZID=America/Los_Angeles:20240726T150000
DTEND;TZID=America/Los_Angeles:20240726T160000
DTSTAMP:20260419T093323
CREATED:20240701T152158Z
LAST-MODIFIED:20240701T153312Z
UID:10017004-1722006000-1722009600@www.venturatownehouse.com
SUMMARY:Happy Hour with Jeanne Tatum Vocals and Piano
DESCRIPTION:Friday\, July 26th join us for happy hour when we introduce a new entertainer\, Jeanne Tatum. \nJeanne is charismatic and highly talented. She has been entertaining audiences throughout Ventura and Los Angeles counties for many years with her unique musical style that is all her own\, but often reminiscent of great singers such as Nancy Wilson\, Roberta Flack\, and Sarah Vaughn. Her song book includes jazz\, pop\, blues\, and R&B tunes.
URL:https://www.venturatownehouse.com/event/happy-hour-with-jeanne-tatum-vocals-and-piano/
LOCATION:The Pier
CATEGORIES:Entertainment
END:VEVENT
BEGIN:VEVENT
DTSTART;TZID=America/Los_Angeles:20240712T150000
DTEND;TZID=America/Los_Angeles:20240712T160000
DTSTAMP:20260419T093323
CREATED:20240701T150952Z
LAST-MODIFIED:20240701T150952Z
UID:10016999-1720796400-1720800000@www.venturatownehouse.com
SUMMARY:Happy Hour with Monte Montgomery Jazz Trio
DESCRIPTION:Friday\, July 12th join us for happy hour when we welcome back Monte Montgomery and his fabulous Jazz trio.
URL:https://www.venturatownehouse.com/event/happy-hour-with-monte-montgomery-jazz-trio/
LOCATION:The Pier
CATEGORIES:Entertainment
END:VEVENT
BEGIN:VEVENT
DTSTART;TZID=America/Los_Angeles:20240705T150000
DTEND;TZID=America/Los_Angeles:20240705T160000
DTSTAMP:20260419T093323
CREATED:20240701T134854Z
LAST-MODIFIED:20240701T144346Z
UID:10016886-1720191600-1720195200@www.venturatownehouse.com
SUMMARY:Wine Social
DESCRIPTION:Classical Guitar with Gilberto \nFriday\, July 5th join us for a relaxing wine social with our favorite guitarist Gilberto in the\nfront Lobby.
URL:https://www.venturatownehouse.com/event/wine-social/
LOCATION:The Pier
CATEGORIES:Social Gatherings
END:VEVENT
END:VCALENDAR